BEGIN:VCALENDAR
VERSION:2.0
PRODID:-//85.13.133.105//NONSGML kigkonsult.se iCalcreator 2.20//
CALSCALE:GREGORIAN
METHOD:PUBLISH
X-WR-TIMEZONE:UTC
BEGIN:VEVENT
UID:event169@fsv-bennstedt.de
DTSTAMP:20260420T092547Z
CATEGORIES:2. Maenner
DESCRIPTION:Sportring Mücheln - FSV Bennstedt II\nKategorie: 2. Maenner\nIC
 S-Link: http://www.fsv-bennstedt.de/index.php?option=com_jem&view=event&id
 =169:sportring-muecheln-fsv-bennstedt-ii\n
DTSTART:20181103T140000Z
DTEND:20181103T154500Z
LOCATION:Sportplatz Mücheln\,Eptinger Rain 66 A\,06249 Mücheln (Geiseltal)
SUMMARY:Sportring Mücheln - FSV Bennstedt II
URL:http://www.fsv-bennstedt.de/index.php?option=com_jem&view=event&id=169:
 sportring-muecheln-fsv-bennstedt-ii
END:VEVENT
END:VCALENDAR
